BEGIN:VCALENDAR
VERSION:2.0
PRODID:-//KAPA - ECPv6.15.20//NONSGML v1.0//EN
CALSCALE:GREGORIAN
METHOD:PUBLISH
X-WR-CALNAME:KAPA
X-ORIGINAL-URL:https://kapa-expert.com
X-WR-CALDESC:Veranstaltungen für KAPA
REFRESH-INTERVAL;VALUE=DURATION:PT1H
X-Robots-Tag:noindex
X-PUBLISHED-TTL:PT1H
BEGIN:VTIMEZONE
TZID:Europe/Vienna
BEGIN:DAYLIGHT
TZOFFSETFROM:+0100
TZOFFSETTO:+0200
TZNAME:CEST
DTSTART:20240331T010000
END:DAYLIGHT
BEGIN:STANDARD
TZOFFSETFROM:+0200
TZOFFSETTO:+0100
TZNAME:CET
DTSTART:20241027T010000
END:STANDARD
BEGIN:DAYLIGHT
TZOFFSETFROM:+0100
TZOFFSETTO:+0200
TZNAME:CEST
DTSTART:20250330T010000
END:DAYLIGHT
BEGIN:STANDARD
TZOFFSETFROM:+0200
TZOFFSETTO:+0100
TZNAME:CET
DTSTART:20251026T010000
END:STANDARD
BEGIN:DAYLIGHT
TZOFFSETFROM:+0100
TZOFFSETTO:+0200
TZNAME:CEST
DTSTART:20260329T010000
END:DAYLIGHT
BEGIN:STANDARD
TZOFFSETFROM:+0200
TZOFFSETTO:+0100
TZNAME:CET
DTSTART:20261025T010000
END:STANDARD
BEGIN:DAYLIGHT
TZOFFSETFROM:+0100
TZOFFSETTO:+0200
TZNAME:CEST
DTSTART:20270328T010000
END:DAYLIGHT
BEGIN:STANDARD
TZOFFSETFROM:+0200
TZOFFSETTO:+0100
TZNAME:CET
DTSTART:20271031T010000
END:STANDARD
END:VTIMEZONE
BEGIN:VEVENT
DTSTART;TZID=Europe/Vienna:20260220T183000
DTEND;TZID=Europe/Vienna:20260220T200000
DTSTAMP:20260423T175859
CREATED:20250611T112305Z
LAST-MODIFIED:20251216T203004Z
UID:10000024-1771612200-1771617600@kapa-expert.com
SUMMARY:20.02.26 - KAPA Netzwerktreffen online
DESCRIPTION:< zurück zu den Veranstaltungen \nOrt: Online per Zoom – Einlass kurz vor 18:30 h. \nStart 18:30 h \nVortrag: Dr.in Aglaia Ishtar Kotal BA\, MA\n“Jenseits von Lust und Schmerz: Kink neurobiologisch entschlüsseln – Dopamin\, Serotonin und die Grenzen des Gehirns” \nWas verbindet Lust und Schmerz im menschlichen Gehirn? Welche Rolle spielen Neurotransmitter wie Dopamin und Serotonin bei der Regulation von Erregung\, Bindung und Grenzerfahrung? Und wie lassen sich diese Prozesse im Kontext von BDSM differenziert betrachten – jenseits von Pathologisierung? \nIn meinem Vortrag beleuchte ich die faszinierenden Schnittstellen zwischen Neurochemie\, Emotion und Verhalten: Wie wirken Belohnungs- und Schmerzkreise zusammen? Was passiert bei „subspace“ oder „top drop“ auf hormoneller Ebene? Und wie lässt sich dieses Wissen in der Begleitung von Menschen nutzen\, die BDSM als Teil ihrer sexuellen oder psychosozialen Identität leben? \nDer Vortrag richtet sich an alle kink aware professionals – also an alle\, die mit psychologischer\, medizinischer oder beratender Expertise Menschen auch in nicht-normativen Lebensentwürfen achtsam begleiten möchten. Gemeinsam schaffen wir Raum für Aufklärung\, Reflexion und fachlichen Austausch – auf Augenhöhe und mit wissenschaftlichem Anspruch. \nNach dem Vortrag wird es Zeit für Austausch und Netzwerken in Zoom geben.Nach dem Vortrag wird es Zeit für Austausch und Netzwerken in Zoom geben. \nTeilnehmende erhalten eine Tagesmitgliedschaft für den Tag der Veranstaltung. \nMit deiner Anmeldung reservierst du verbindlich deinen Platz in der Onlinegruppe. \nBitte beachte: Da es sich um eine zeitlich fixierte Gruppenveranstaltung handelt\, gibt es kein Rücktrittsrecht und keine Rückerstattung im Falle einer Absage oder Nicht-Teilnahme. Dies entspricht § 18 Abs 1 Z 10 des österreichischen Fern- und Auswärtsgeschäfte-Gesetzes (FAGG).Mit deiner Anmeldung erklärst du dich mit diesen Bedingungen einverstanden. \nWir wollen Kink Aware Professionals die Möglichkeit zur Vernetzung geben\, um eine gemeinsame Basis zu etablieren. \nIm Bereich Sexualität zu arbeiten ist manchmal herausfordernd\, weil Sexualität noch immer ein Tabuthema in unserer Gesellschaft ist. Alternative Sexualität und Beziehungsformen sind folglich noch viel mehr stigmatisiert. \nBeziehungsformen\, die sich von der monogamen Grundkonzeption unterscheiden\, sind noch immer die Ausnahme. \nUnser Ziel ist es\, Expert:innen in diesem Bereich die Möglichkeit zu bieten\, einander kennenzulernen\, voneinander zu lernen\, sich auszutauschen und gegenseitig unterstützen zu können. \nWir wollen dafür eine Plattform zur Verfügung stellen und Vorträge sowie Expert:innenreferate anbieten die zum anschließenden Austausch anregen. \nDer Plan ist\, sowohl online als auch vor Ort Netzwerktreffen abzuhalten.
URL:https://kapa-expert.com/event/28-11-2025-kapa-netzwerktreffen-online/
LOCATION:Zoom
CATEGORIES:Netzwerktreffen,Online,Professionals
ATTACH;FMTTYPE=image/png:https://kapa-expert.com/wp-content/uploads/2024/07/zoom-KAPA-mittig.png
END:VEVENT
BEGIN:VEVENT
DTSTART;TZID=Europe/Vienna:20251205T140000
DTEND;TZID=Europe/Vienna:20251207T130000
DTSTAMP:20260423T175859
CREATED:20250707T172502Z
LAST-MODIFIED:20251123T092436Z
UID:10000027-1764943200-1765112400@kapa-expert.com
SUMMARY:05.-07.12.2025 - KAPA Academy Basismodul
DESCRIPTION:PreiseEUR 599\,- – Ticketkauf beim Termin nach bestätigter Bewerbung \n< zurück zu den Veranstaltungen \nzur Info-Seite\nVoraussetzung: erfolgreiche Bewerbung \n\nTrinicum Wien\, Gruppenraum\, Schwarzenbergplatz 6\, 1030 Wien\nPalais Fanto – Eingang Zaunergasse 1-3 \n\nZoom \n\n20 AE à 45min \n\nArbeitszeiten: \n\nFreitag 14:00 – 19 h (Block 1)\nSamstag: 9:30-19 h (Block 2+3)\nSonntag 9:30 – 13:00 h (Block 4) \n\nArbeitszeiten pro Block\nBlock 1: 14-19 h (6 AE)\n– 14:00 – 15:30\n– 15:45 – 17:15\n– 17:30 – 19:00 \nBlock 2 (4 AE)\n– 9:30 – 11:00\n– 11:15 – 12:45 \nBlock 3 (6 AE)\n– 14:00 – 15:30\n– 15:45 – 17:15\n– 17:30 – 19:00 \nBlock 4 (4 AE)\n– 9:30 – 11:00\n– 11:30 – 13:00 \n\nBitte beachte: Da es sich um eine zeitlich fixierte Gruppenveranstaltung handelt\, gibt es kein Rücktrittsrecht und keine Rückerstattung im Falle einer Absage oder Nicht-Teilnahme.Dies entspricht § 18 Abs 1 Z 10 des österreichischen Fern- und Auswärtsgeschäfte-Gesetzes (FAGG).Mit deiner Anmeldung erklärst du dich mit diesen Bedingungen einverstanden. \n\nFortbildungspunkte für Ärzt:innen\, Psycholog:innen\, Physiotherapeut:innen und Psychotherapeut:innen werden beantragt. \n\njetzt bewerben
URL:https://kapa-expert.com/event/05-07-12-2025-kapa-academy-basics/
LOCATION:Trinicum Wien\, Schwarzenbergplatz 6\, Wien\, 1030\, Austria
CATEGORIES:Fortbildung,hybrid,Professionals
ATTACH;FMTTYPE=image/png:https://kapa-expert.com/wp-content/uploads/2024/07/zoom-KAPA-mittig.png
END:VEVENT
BEGIN:VEVENT
DTSTART;TZID=Europe/Vienna:20251008T183000
DTEND;TZID=Europe/Vienna:20251008T200000
DTSTAMP:20260423T175859
CREATED:20250510T104603Z
LAST-MODIFIED:20250720T175514Z
UID:10000021-1759948200-1759953600@kapa-expert.com
SUMMARY:08.10.2025 - KAPA Gruppensupervision Online
DESCRIPTION:< zurück zu den Veranstaltungen \n\n2 Arbeitseinheiten à 45min\n18:28 h Einlass\n18:30 h Start\n18:30 – 20:00 h \n\nOrt: Zoom \nLeitung: Ing. Natascha Ditha BERGER\, MSc und/oder Dr. Martin Gostentschnig \nWir wollen Kink und Poly Aware Professionals die Möglichkeit zur Supervision geben. \nIm Bereich Sexualität zu arbeiten ist manchmal herausfordernd\, da Sexualität noch immer ein Tabuthema in unserer Gesellschaft ist. Alternative Sexualität und Beziehungsformen sind folglich noch viel mehr stigmatisiert. Beziehungsformen\, die sich von der monogamen Grundkonzeption unterscheiden\, sind noch immer die Ausnahme. \nNatascha Ditha BERGER und Martin Gostentschnig arbeiten seit über 10 Jahren mit Kinkstern und Polys und stellen ihre Expertise in diesem Rahmen supervisorisch zur Verfügung. \nBei Rückfragen sende bitte ein Email an: office (at) kapa.expert \nMit dem Erwerb eines Tickets reservierst du verbindlich deinen Platz.Bitte beachte: Da es sich um eine zeitlich fixierte Gruppenveranstaltung handelt\, gibt es kein Rücktrittsrecht und keine Rückerstattung im Falle einer Absage oder Nicht-Teilnahme.Dies entspricht § 18 Abs 1 Z 10 des österreichischen Fern- und Auswärtsgeschäfte-Gesetzes (FAGG).Durch den Erwerb eines Tickets erklärst du dich mit diesen Bedingungen einverstanden.
URL:https://kapa-expert.com/event/kapa-gruppensupervision-online-10/
LOCATION:Zoom
CATEGORIES:Gruppen-Supervision,Professionals
ATTACH;FMTTYPE=image/png:https://kapa-expert.com/wp-content/uploads/2024/07/zoom-KAPA-mittig.png
END:VEVENT
BEGIN:VEVENT
DTSTART;TZID=Europe/Vienna:20250919T181000
DTEND;TZID=Europe/Vienna:20250919T210000
DTSTAMP:20260423T175859
CREATED:20250314T112853Z
LAST-MODIFIED:20250920T085244Z
UID:10000015-1758305400-1758315600@kapa-expert.com
SUMMARY:19.09.2025 - KAPA Netzwerktreffen hybrid
DESCRIPTION:< zurück zu den Veranstaltungen \nOrt: Trinicum Wien\, Gruppenraum\, Schwarzenbergplatz 6 /Eingang Zaunergasse 1-3 Palais Fanto\, 1030 Wien\nEinlass physisch: 18:10 h \nplus hybrid per Zoom – hier erfolgt der Einlass kurz vor 18:30 h. \nStart 18:30 h \nVortragender: Dr. Martin Gostentschnig  \nTitel: “Kink-Affirmative Haltung in der traumasensiblen Arbeit: Ein multiprofessioneller Ansatz” \nSexuelle Vielfalt stellt im Gesundheitsbereich oft eine Herausforderung dar\, insbesondere wenn sie mit traumatischen Erfahrungen verknüpft ist. Menschen mit alternativen Sexualitäten und Beziehungsformen stoßen in der Praxis des Gesundheitswesens häufig auf Pathologisierung\, Missverständnisse oder werden schlicht nicht wahrgenommen. \nDieser Vortrag zielt darauf ab\, die Relevanz einer Kink-bestätigenden Haltung in der Arbeit mit traumatisierten Klient:innen hervorzuheben. Gerade die Heilung von Traumata ist ein komplexer Prozess\, der ein breites Spektrum an Ressourcen und die Unterstützung durch verschiedene Berufsgruppen erfordert. \nGenau hier liegt die Stärke der multiprofessionellen Zusammenarbeit\, wie sie im KAPA-Netzwerk gefördert wird. Wenn Expert:innen aus unterschiedlichen Disziplinen ihr Wissen bündeln\, schaffen sie ein ganzheitliches und sicheres Umfeld\, das für die posttraumatische Entwicklung entscheidend ist. \nDieser interdisziplinäre Ansatz stellt sicher\, dass Klient:innen genau die vielfältige und kompetente Unterstützung erhalten\, die sie auf ihrem Weg benötigen – frei von Stigmatisierung und Pathologisierung. \nTeilnehmende erhalten eine Tagesmitgliedschaft für den Tag der Veranstaltung. \nNach dem Vortrag wird es Zeit für Austausch und Netzwerken vor Ort geben. Der Zoom-Raum wird für den Austausch der online-Teilnehmenden unadministriert offen bleiben. \nFortbildungspunkte für Psychotherapeut:innen\, Psycholog:innen\, Ärzte und Ärztinnen werden beantragt. \nMit dem Ticketkauf reservierst du verbindlich deinen Platz.Bitte beachte: Da es sich um eine zeitlich fixierte Gruppenveranstaltung handelt\, gibt es kein Rücktrittsrecht und keine Rückerstattung im Falle einer Absage oder Nicht-Teilnahme.Dies entspricht § 18 Abs 1 Z 10 des österreichischen Fern- und Auswärtsgeschäfte-Gesetzes (FAGG).Mit deiner Anmeldung erklärst du dich mit diesen Bedingungen einverstanden. \nWir wollen Kink Aware Professionals die Möglichkeit zur Vernetzung geben\, um eine gemeinsame Basis zu etablieren. \nIm Bereich Sexualität zu arbeiten ist manchmal herausfordernd\, weil Sexualität noch immer ein Tabuthema in unserer Gesellschaft ist. Alternative Sexualität und Beziehugnsformen sind folglich noch viel mehr stigmatisiert. \nBeziehungsformen\, die sich von der monogamen Grundkonzeption unterscheiden\, sind noch immer die Ausnahme. \nUnser Ziel ist es\, Expert:innen in diesem Bereich die Möglichkeit zu bieten\, einander kennenzulernen\, voneinander zu lernen\, sich auszutauschen und gegenseitig unterstützen zu können. \nWir wollen dafür eine Plattform zur Verfügung stellen und Vorträge sowie Expert:innenreferate anbieten die zum anschließenden Austausch anregen.
URL:https://kapa-expert.com/event/19-09-2025-kapa-netzwerktreffen-hybrid/
LOCATION:Trinicum Wien\, Schwarzenbergplatz 6\, Wien\, 1030\, Austria
CATEGORIES:hybrid,Netzwerktreffen,Online,Professionals,vor Ort
ATTACH;FMTTYPE=image/png:https://kapa-expert.com/wp-content/uploads/2024/07/zoom-KAPA-mittig.png
END:VEVENT
BEGIN:VEVENT
DTSTART;TZID=Europe/Vienna:20250918T183000
DTEND;TZID=Europe/Vienna:20250918T200000
DTSTAMP:20260423T175859
CREATED:20250311T141128Z
LAST-MODIFIED:20250727T120328Z
UID:10000014-1758220200-1758225600@kapa-expert.com
SUMMARY:18.09.2025 - KAPA Online Therapiegruppe
DESCRIPTION:< zurück zu den Veranstaltungen \nMit dem Erwerb eines Tickets reservierst du verbindlich deinen Platz. \nBitte beachte: Da es sich um eine zeitlich fixierte Gruppenveranstaltung handelt\, gibt es kein Rücktrittsrecht und keine Rückerstattung im Falle einer Absage oder Nicht-Teilnahme. Dies entspricht § 18 Abs 1 Z 10 des österreichischen Fern- und Auswärtsgeschäfte-Gesetzes (FAGG).Mit deiner Anmeldung erklärst du dich mit diesen Bedingungen einverstanden.
URL:https://kapa-expert.com/event/18-09-2025-online-therapiegruppe/
LOCATION:Zoom
CATEGORIES:Gruppenselbsterfahrung,Online,Personen
ATTACH;FMTTYPE=image/jpeg:https://kapa-expert.com/wp-content/uploads/2025/07/virtual-coworkers-3382503_1920.jpg
END:VEVENT
BEGIN:VEVENT
DTSTART;TZID=Europe/Vienna:20250910T183000
DTEND;TZID=Europe/Vienna:20250910T200000
DTSTAMP:20260423T175859
CREATED:20250430T121323Z
LAST-MODIFIED:20250829T122527Z
UID:10000018-1757529000-1757534400@kapa-expert.com
SUMMARY:10.09.2025 - KAPA Gruppensupervision Online
DESCRIPTION:< zurück zu den Veranstaltungen \n2 Arbeitseinheiten à 45min\n18:28 h Einlass\n18:30 h Start\n18:30 – 20:00 h \nOrt: Zoom \nLeitung: Ing. Natascha Ditha BERGER\, MSc und/oder Dr. Martin Gostentschnig\n \nWir wollen Kink Aware und Poly Aware Professionals die Möglichkeit zur Supervision geben. \nIm Bereich Sexualität zu arbeiten ist manchmal herausfordernd\, da Sexualität noch immer ein Tabuthema in unserer Gesellschaft ist. Alternative Sexualität und Beziehungsformen sind folglich noch viel mehr stigmatisiert. Beziehungsformen\, die sich von der monogamen Grundkonzeption unterscheiden\, sind noch immer die Ausnahme. \nNatascha Ditha BERGER und Martin Gostentschnig arbeiten seit über 10 Jahren mit Kinkstern und Polys und stellen ihre Expertise in diesem Rahmen supervisorisch zur Verfügung. \nBei Rückfragen sende bitte ein Email an: office (at) kapa.expert \nMit dem Erwerb eines Tickets reservierst du verbindlich deinen Platz.Bitte beachte: Da es sich um eine zeitlich fixierte Gruppenveranstaltung handelt\, gibt es kein Rücktrittsrecht und keine Rückerstattung im Falle einer Absage oder Nicht-Teilnahme.Dies entspricht § 18 Abs 1 Z 10 des österreichischen Fern- und Auswärtsgeschäfte-Gesetzes (FAGG).Durch den Erwerb eines Tickets erklärst du dich mit diesen Bedingungen einverstanden.
URL:https://kapa-expert.com/event/kapa-gruppensupervision-9/
LOCATION:Zoom
CATEGORIES:Gruppen-Supervision,Online,Professionals
ATTACH;FMTTYPE=image/png:https://kapa-expert.com/wp-content/uploads/2024/07/zoom-KAPA-mittig.png
END:VEVENT
END:VCALENDAR