BEGIN:VCALENDAR
VERSION:2.0
PRODID:-//KAPA - ECPv6.15.20//NONSGML v1.0//EN
CALSCALE:GREGORIAN
METHOD:PUBLISH
X-WR-CALNAME:KAPA
X-ORIGINAL-URL:https://kapa-expert.com
X-WR-CALDESC:Veranstaltungen für KAPA
REFRESH-INTERVAL;VALUE=DURATION:PT1H
X-Robots-Tag:noindex
X-PUBLISHED-TTL:PT1H
BEGIN:VTIMEZONE
TZID:Europe/Vienna
BEGIN:DAYLIGHT
TZOFFSETFROM:+0100
TZOFFSETTO:+0200
TZNAME:CEST
DTSTART:20250330T010000
END:DAYLIGHT
BEGIN:STANDARD
TZOFFSETFROM:+0200
TZOFFSETTO:+0100
TZNAME:CET
DTSTART:20251026T010000
END:STANDARD
BEGIN:DAYLIGHT
TZOFFSETFROM:+0100
TZOFFSETTO:+0200
TZNAME:CEST
DTSTART:20260329T010000
END:DAYLIGHT
BEGIN:STANDARD
TZOFFSETFROM:+0200
TZOFFSETTO:+0100
TZNAME:CET
DTSTART:20261025T010000
END:STANDARD
BEGIN:DAYLIGHT
TZOFFSETFROM:+0100
TZOFFSETTO:+0200
TZNAME:CEST
DTSTART:20270328T010000
END:DAYLIGHT
BEGIN:STANDARD
TZOFFSETFROM:+0200
TZOFFSETTO:+0100
TZNAME:CET
DTSTART:20271031T010000
END:STANDARD
END:VTIMEZONE
BEGIN:VEVENT
DTSTART;TZID=Europe/Vienna:20260430T180000
DTEND;TZID=Europe/Vienna:20260430T211500
DTSTAMP:20260423T124254
CREATED:20260403T145545Z
LAST-MODIFIED:20260419T090053Z
UID:10000039-1777572000-1777583700@kapa-expert.com
SUMMARY:30.04.2026 - Polyamorie Gruppe Wien
DESCRIPTION:< zurück zu den Veranstaltungen \n4 AE à 45 Min \n18:00 – 19:30\nPause 15 Min\n19:45 – 21:15 \nMit dem Erwerb des Tickets reservierst du verbindlich deinen Platz. \nBitte beachte: Da es sich um eine zeitlich fixierte Gruppenveranstaltung handelt\, gibt es kein Rücktrittsrecht und keine Rückerstattung im Falle einer Absage oder Nicht-Teilnahme. Dies entspricht § 18 Abs 1 Z 10 des österreichischen Fern- und Auswärtsgeschäfte-Gesetzes (FAGG).Mit deiner Anmeldung erklärst du dich mit diesen Bedingungen einverstanden.
URL:https://kapa-expert.com/event/20260430-polyamorie-gruppe-wien/
LOCATION:Nähe Praterstern\, Kleine Stadtgutgasse 6-8 / Top 8 - Mezzanin\, Wien\, Wien\, 1020\, Austria
CATEGORIES:Gruppenselbsterfahrung,Personen,Polyamorie Gruppe Wien,vor Ort
ATTACH;FMTTYPE=image/jpeg:https://kapa-expert.com/wp-content/uploads/2025/03/pexels-chuchuphinh-1116302-scaled.jpg
END:VEVENT
BEGIN:VEVENT
DTSTART;TZID=Europe/Vienna:20260529T100000
DTEND;TZID=Europe/Vienna:20260530T180000
DTSTAMP:20260423T124254
CREATED:20250710T125832Z
LAST-MODIFIED:20260409T130555Z
UID:10000028-1780048800-1780164000@kapa-expert.com
SUMMARY:KAPA Kongress 2026 - hybride Veranstaltung
DESCRIPTION:< zurück zu den Veranstaltungen \nDer Fachkongress für die speziellen Themen \nOrt:  Markhof – Das Dorf in der Stadt GmbH\, Markhofgasse 19\, 1030 Wien \naktuell in Planung: plus hybrid per Zoom – hier erfolgt der Einlass kurz vor Start \nStart: laut Programm\n \nTeilnehmende erhalten eine Tagesmitgliedschaft für den Tag der Veranstaltung. \nFortbildungspunkte für Psychotherapeut:innen\, Psycholog:innen\, Ärzte und Ärztinnen werden beantragt. \n\nPreisgestaltung\n\n\nRegular: EUR 300 = 100%\nbis 31.12.2025: Super early bird 80%\nbis 15.04.2025: early bird 90%\nbis 21.05.2025: regular 100%\nbis 30.05.2025: late bird 110% \nStudierende\, iAuS\, helfende angestellte ohne eigene Praxis: 60% \nAbsageregelung bei schriftlicher Stornierung bis x vor Veranstaltungsbeginn:\nbis 3 Monate vorher: 60% Rückerstattung\nbis 1 Monat vorher: 40% Rückerstattung\ndanach keine Rückerstattung möglich. \nTicketweitergabe mit Namensänderung: EUR 30\,- Bearbeitungsgebühr. \n\nMit dem Ticketkauf reservierst du verbindlich deinen Platz.Bitte beachte: Da es sich um eine zeitlich fixierte Gruppenveranstaltung handelt\, gibt es kein Rücktrittsrecht und keine Rückerstattung im Falle einer Absage oder Nicht-Teilnahme.Dies entspricht § 18 Abs 1 Z 10 des österreichischen Fern- und Auswärtsgeschäfte-Gesetzes (FAGG).Mit deiner Anmeldung erklärst du dich mit diesen Bedingungen einverstanden. \nWir wollen Kink Aware Professionals die Möglichkeit zur Vernetzung geben\, um eine gemeinsame Basis zu etablieren. \nIm Bereich Sexualität zu arbeiten ist manchmal herausfordernd\, weil Sexualität noch immer ein Tabuthema in unserer Gesellschaft ist. Alternative Sexualität und Beziehugnsformen sind folglich noch viel mehr stigmatisiert. \nBeziehungsformen\, die sich von der monogamen Grundkonzeption unterscheiden\, sind noch immer die Ausnahme. \nUnser Ziel ist es\, Expert:innen in diesem Bereich die Möglichkeit zu bieten\, einander kennenzulernen\, voneinander zu lernen\, sich auszutauschen und gegenseitig unterstützen zu können. \nWir wollen dafür eine Plattform zur Verfügung stellen und Vorträge sowie Expert:innenreferate anbieten die zum anschließenden Austausch anregen.
URL:https://kapa-expert.com/event/kapa-kongress-2026/
LOCATION:Markhof\, Markhofgasse 19\, Wien\, 1030\, Austria
CATEGORIES:Fortbildung,hybrid,Kongress,Netzwerktreffen,Online,Professionals,vor Ort
ATTACH;FMTTYPE=image/png:https://kapa-expert.com/wp-content/uploads/2025/07/kapa-kongress-2025.png
END:VEVENT
BEGIN:VEVENT
DTSTART;TZID=Europe/Vienna:20260610T183000
DTEND;TZID=Europe/Vienna:20260610T200000
DTSTAMP:20260423T124254
CREATED:20250720T181143Z
LAST-MODIFIED:20260419T091257Z
UID:10000037-1781116200-1781121600@kapa-expert.com
SUMMARY:10.06.2026 - KAPA Gruppensupervision Online
DESCRIPTION:< zurück zu den Veranstaltungen \n\n2 Arbeitseinheiten à 45min\n18:28 h Einlass\n18:30 h Start\n18:30 – 20:00 h \n\nOrt: Zoom \nLeitung: Ing. Natascha Ditha BERGER\, MSc und/oder Dr. Martin Gostentschnig \nWir wollen Kink und Poly Aware Professionals die Möglichkeit zur Supervision geben. \nIm Bereich Sexualität zu arbeiten ist manchmal herausfordernd\, da Sexualität noch immer ein Tabuthema in unserer Gesellschaft ist. Alternative Sexualität und Beziehungsformen sind folglich noch viel mehr stigmatisiert. Beziehungsformen\, die sich von der monogamen Grundkonzeption unterscheiden\, sind noch immer die Ausnahme. \nNatascha Ditha BERGER und Martin Gostentschnig arbeiten seit über 10 Jahren mit Kinkstern und Polys und stellen ihre Expertise in diesem Rahmen supervisorisch zur Verfügung. \nBei Rückfragen sende bitte ein Email an: office (at) kapa.expert \nMit dem Erwerb eines Tickets reservierst du verbindlich deinen Platz.Bitte beachte: Da es sich um eine zeitlich fixierte Gruppenveranstaltung handelt\, gibt es kein Rücktrittsrecht und keine Rückerstattung im Falle einer Absage oder Nicht-Teilnahme.Dies entspricht § 18 Abs 1 Z 10 des österreichischen Fern- und Auswärtsgeschäfte-Gesetzes (FAGG).Durch den Erwerb eines Tickets erklärst du dich mit diesen Bedingungen einverstanden.
URL:https://kapa-expert.com/event/10-12-2025-kapa-gruppensupervision-online/
LOCATION:Zoom
CATEGORIES:Gruppen-Supervision,Professionals
ATTACH;FMTTYPE=image/png:https://kapa-expert.com/wp-content/uploads/2024/07/zoom-KAPA-mittig.png
END:VEVENT
BEGIN:VEVENT
DTSTART;TZID=Europe/Vienna:20260909T183000
DTEND;TZID=Europe/Vienna:20260909T200000
DTSTAMP:20260423T124254
CREATED:20260419T091140Z
LAST-MODIFIED:20260419T091140Z
UID:10000041-1788978600-1788984000@kapa-expert.com
SUMMARY:09.06.2026 - KAPA Gruppensupervision Online
DESCRIPTION:< zurück zu den Veranstaltungen \n\n2 Arbeitseinheiten à 45min\n18:28 h Einlass\n18:30 h Start\n18:30 – 20:00 h \n\nOrt: Zoom \nLeitung: Ing. Natascha Ditha BERGER\, MSc und/oder Dr. Martin Gostentschnig \nWir wollen Kink und Poly Aware Professionals die Möglichkeit zur Supervision geben. \nIm Bereich Sexualität zu arbeiten ist manchmal herausfordernd\, da Sexualität noch immer ein Tabuthema in unserer Gesellschaft ist. Alternative Sexualität und Beziehungsformen sind folglich noch viel mehr stigmatisiert. Beziehungsformen\, die sich von der monogamen Grundkonzeption unterscheiden\, sind noch immer die Ausnahme. \nNatascha Ditha BERGER und Martin Gostentschnig arbeiten seit über 10 Jahren mit Kinkstern und Polys und stellen ihre Expertise in diesem Rahmen supervisorisch zur Verfügung. \nBei Rückfragen sende bitte ein Email an: office (at) kapa.expert \nMit dem Erwerb eines Tickets reservierst du verbindlich deinen Platz.Bitte beachte: Da es sich um eine zeitlich fixierte Gruppenveranstaltung handelt\, gibt es kein Rücktrittsrecht und keine Rückerstattung im Falle einer Absage oder Nicht-Teilnahme.Dies entspricht § 18 Abs 1 Z 10 des österreichischen Fern- und Auswärtsgeschäfte-Gesetzes (FAGG).Durch den Erwerb eines Tickets erklärst du dich mit diesen Bedingungen einverstanden.
URL:https://kapa-expert.com/event/09-06-2026-kapa-gruppensupervision-online/
LOCATION:Zoom
CATEGORIES:Gruppen-Supervision,Professionals
ATTACH;FMTTYPE=image/png:https://kapa-expert.com/wp-content/uploads/2024/07/zoom-KAPA-mittig.png
END:VEVENT
END:VCALENDAR