BEGIN:VCALENDAR
VERSION:2.0
PRODID:-//KAPA - ECPv6.15.20//NONSGML v1.0//EN
CALSCALE:GREGORIAN
METHOD:PUBLISH
X-ORIGINAL-URL:https://kapa-expert.com
X-WR-CALDESC:Veranstaltungen für KAPA
REFRESH-INTERVAL;VALUE=DURATION:PT1H
X-Robots-Tag:noindex
X-PUBLISHED-TTL:PT1H
BEGIN:VTIMEZONE
TZID:Europe/Vienna
BEGIN:DAYLIGHT
TZOFFSETFROM:+0100
TZOFFSETTO:+0200
TZNAME:CEST
DTSTART:20240331T010000
END:DAYLIGHT
BEGIN:STANDARD
TZOFFSETFROM:+0200
TZOFFSETTO:+0100
TZNAME:CET
DTSTART:20241027T010000
END:STANDARD
BEGIN:DAYLIGHT
TZOFFSETFROM:+0100
TZOFFSETTO:+0200
TZNAME:CEST
DTSTART:20250330T010000
END:DAYLIGHT
BEGIN:STANDARD
TZOFFSETFROM:+0200
TZOFFSETTO:+0100
TZNAME:CET
DTSTART:20251026T010000
END:STANDARD
BEGIN:DAYLIGHT
TZOFFSETFROM:+0100
TZOFFSETTO:+0200
TZNAME:CEST
DTSTART:20260329T010000
END:DAYLIGHT
BEGIN:STANDARD
TZOFFSETFROM:+0200
TZOFFSETTO:+0100
TZNAME:CET
DTSTART:20261025T010000
END:STANDARD
END:VTIMEZONE
BEGIN:VEVENT
DTSTART;TZID=Europe/Vienna:20251024T183000
DTEND;TZID=Europe/Vienna:20251024T210000
DTSTAMP:20260424T055230
CREATED:20250510T105159Z
LAST-MODIFIED:20251020T094654Z
UID:10000019-1761330600-1761339600@kapa-expert.com
SUMMARY:24.10.2025 - KAPA Netzwerktreffen online
DESCRIPTION:< zurück zu den Veranstaltungen \nOrt: Online per freudio – Einlass kurz vor 18:30 h. \nDer Link zum Meeting ist im Ticket. \nStart 18:30 h \nVortrag: \n \nVon den Anfängen des Internets bis zur KI: Die digitale Evolution der BDSM-Kultur und ihre psychosozialen Implikationen \nWir laden herzlich zu eine spannenden Vortrag im Rahmen unseres nächsten Kapa Netzwerktreffens ein. Als Referenten für diesen Abend konnten wir Robert Matzinger gewinnen\, der wie kaum ein anderer die Welten des BDSM-Aktivismus und der Informationstechnologie verbindet. \nDer Vortrag beleuchtet die tiefgreifende Verbindung zwischen der Entwicklung des Internets und der Formierung von Subkulturen am Beispiel der BDSM-Szene – ein Thema von hoher Relevanz für die therapeutische Arbeit. \nWorum geht es im Vortrag? \nDie Geschichte der BDSM-Szene ist untrennbar mit der des Internets verbunden. Was in den 1980ern mit ersten Initiativen begann\, erlebte durch die Online-Foren und Chats der 1990er-Jahre einen enormen Aufschwung. In diesem neuen digitalen Raum wurden Konzepte öffentlich verhandelt\, überregionale Gemeinschaften gebildet und individuelle Identitäten erforscht und gefestigt. \nHeute\, im Zeitalter von Social-Media-Algorithmen\, Datenaggregation und künstlicher Intelligenz\, stehen diese Gemeinschaften vor völlig neuen Herausforderungen: von digitaler Sicherheit und Datenschutz bis hin zur Gefahr von Echokammern und der Monopolisierung der Kommunikation. Der Vortrag zeichnet diese Entwicklung nach\, analysiert die heutige Situation kritisch und zeigt auf\, welche Handlungsmöglichkeiten es für den Einzelnen gibt\, um die eigene Resilienz und die der Gemeinschaft zu stärken. \nInhaltliche Schwerpunkte \n\nHistorische Perspektive: Die Rolle des frühen Internets als Katalysator für die Vernetzung und Konzeptentwicklung der europäischen BDSM- und sexpositiven Szene.\nIdentität und Gemeinschaft: Wie der digitale Raum die überregionale Vernetzung\, den Zugang zu Informationen und die persönliche Identitätsfindung ermöglicht und geformt hat.\nHerausforderungen der Gegenwart: Eine kritische Analyse der aktuellen digitalen Landschaft (Social Media\, KI\, Datenschutz\, IT-Sicherheit) und ihrer Auswirkungen auf Subkulturen.\nPraktische Lösungsansätze: Strategien zur Stärkung von digitaler Resilienz\, Datenschutz und persönlicher Sicherheit\, die sowohl im privaten als auch im politischen Kontext wirksam sind.\n\nRelevanz für die Praxis \nDieser Abend bietet Ihnen wertvolle Einblicke und stärkt Ihre Kompetenzen: \n\nLebenswelten verstehen: Sie vertiefen Ihr Verständnis für die soziokulturelle und digitale Realität von Klient:innen aus der BDSM- und sexpositiven Community.\nMedienkompetenz: Sie können die spezifischen Chancen und Risiken\, denen Klient:innen in digitalen Räumen begegnen\, besser einordnen und thematisieren.\nBeratungskompetenz: Sie erhalten Impulse\, um Klient:innen im sicheren und selbstbestimmten Umgang mit ihrer digitalen Identität zu unterstützen.\n\nÜber den Referenten \nRobert Matzinger beleuchtet das Thema aus einer einzigartigen doppelten Perspektive: \nAls Aktivist und langjähriger Zeitzeuge ist er seit 1999 Obmann der Libertine Wien\, dem ältesten BDSM-Vereine Österreichs und im deutschsprachigen Raum. In dieser Funktion hat er unzählige Events wie Festivals\, Ausstellungen\, Lesungen und Seminare organisiert. Formate wie die regelmäßigen „Themenabende“ als Diskussionsforum oder der legendäre „Ponygespann“-Auftritt bei der Wiener Regenbogenparade prägten die öffentliche Wahrnehmung der Szene maßgeblich mit. Sein zentrales Interesse gilt den gesellschaftspolitischen Implikationen\, die sich aus der Entwicklung von Beziehungsformen und Sexualität ergeben. \nIn seiner beruflichen Laufbahn ist Robert Matzinger Hochschullehrer am Department für Informationstechnologie. Seine Schwerpunkte in Forschung und Lehre umfassen unter anderem Software-Engineering\, Open-Source-Software\, Virtualisierung\, Datenschutz und Linux. \nDiese Doppelkompetenz ermöglicht ihm eine fundierte Analyse\, die sowohl die soziokulturellen Dynamiken der Szene als auch die technologischen Grundlagen und Risiken der digitalen Welt umfasst. \nTeilnehmende erhalten eine Tagesmitgliedschaft für den Tag der Veranstaltung. \nNach dem Vortrag wird es Zeit für Austausch und Netzwerken vor Ort geben. Der Zoom-Raum wird für den Austausch der online-Teilnehmenden unadministriert offen bleiben. \nMit deiner Anmeldung reservierst du verbindlich deinen Platz in der Onlinegruppe. \nBitte beachte: Da es sich um eine zeitlich fixierte Gruppenveranstaltung handelt\, gibt es kein Rücktrittsrecht und keine Rückerstattung im Falle einer Absage oder Nicht-Teilnahme. Dies entspricht § 18 Abs 1 Z 10 des österreichischen Fern- und Auswärtsgeschäfte-Gesetzes (FAGG).Mit deiner Anmeldung erklärst du dich mit diesen Bedingungen einverstanden. \nWir wollen Kink Aware Professionals die Möglichkeit zur Vernetzung geben\, um eine gemeinsame Basis zu etablieren. \nIm Bereich Sexualität zu arbeiten ist manchmal herausfordernd\, weil Sexualität noch immer ein Tabuthema in unserer Gesellschaft ist. Alternative Sexualität und Beziehgunsformen sind folglich noch viel mehr stigmatisiert. \nBeziehungsformen\, die sich von der monogamen Grundkonzeption unterscheiden\, sind noch immer die Ausnahme. \nUnser Ziel ist es\, Expert:innen in diesem Bereich die Möglichkeit zu bieten\, einander kennenzulernen\, voneinander zu lernen\, sich auszutauschen und gegenseitig unterstützen zu können. \nWir wollen dafür eine Plattform zur Verfügung stellen und Vorträge sowie Expert:innenreferate anbieten die zum anschließenden Austausch anregen. \nDer Plan ist\, sowohl online als auch vor Ort Netzwerktreffen abzuhalten. \nBei Interesse senden Sie bitte ein Email an: office (at) kapa.expert \njetzt anmelden
URL:https://kapa-expert.com/event/kapa-netzwerktreffen-10/
LOCATION:freudio meet
CATEGORIES:Netzwerktreffen,Online,Professionals
ATTACH;FMTTYPE=image/png:https://kapa-expert.com/wp-content/uploads/2024/07/zoom-KAPA-mittig.png
END:VEVENT
END:VCALENDAR