BEGIN:VCALENDAR
VERSION:2.0
PRODID:-//KAPA - ECPv6.15.20//NONSGML v1.0//EN
CALSCALE:GREGORIAN
METHOD:PUBLISH
X-ORIGINAL-URL:https://kapa-expert.com
X-WR-CALDESC:Veranstaltungen für KAPA
REFRESH-INTERVAL;VALUE=DURATION:PT1H
X-Robots-Tag:noindex
X-PUBLISHED-TTL:PT1H
BEGIN:VTIMEZONE
TZID:Europe/Vienna
BEGIN:DAYLIGHT
TZOFFSETFROM:+0100
TZOFFSETTO:+0200
TZNAME:CEST
DTSTART:20240331T010000
END:DAYLIGHT
BEGIN:STANDARD
TZOFFSETFROM:+0200
TZOFFSETTO:+0100
TZNAME:CET
DTSTART:20241027T010000
END:STANDARD
BEGIN:DAYLIGHT
TZOFFSETFROM:+0100
TZOFFSETTO:+0200
TZNAME:CEST
DTSTART:20250330T010000
END:DAYLIGHT
BEGIN:STANDARD
TZOFFSETFROM:+0200
TZOFFSETTO:+0100
TZNAME:CET
DTSTART:20251026T010000
END:STANDARD
BEGIN:DAYLIGHT
TZOFFSETFROM:+0100
TZOFFSETTO:+0200
TZNAME:CEST
DTSTART:20260329T010000
END:DAYLIGHT
BEGIN:STANDARD
TZOFFSETFROM:+0200
TZOFFSETTO:+0100
TZNAME:CET
DTSTART:20261025T010000
END:STANDARD
END:VTIMEZONE
BEGIN:VEVENT
DTSTART;TZID=Europe/Vienna:20250919T181000
DTEND;TZID=Europe/Vienna:20250919T210000
DTSTAMP:20260424T073808
CREATED:20250314T112853Z
LAST-MODIFIED:20250920T085244Z
UID:10000015-1758305400-1758315600@kapa-expert.com
SUMMARY:19.09.2025 - KAPA Netzwerktreffen hybrid
DESCRIPTION:< zurück zu den Veranstaltungen \nOrt: Trinicum Wien\, Gruppenraum\, Schwarzenbergplatz 6 /Eingang Zaunergasse 1-3 Palais Fanto\, 1030 Wien\nEinlass physisch: 18:10 h \nplus hybrid per Zoom – hier erfolgt der Einlass kurz vor 18:30 h. \nStart 18:30 h \nVortragender: Dr. Martin Gostentschnig  \nTitel: “Kink-Affirmative Haltung in der traumasensiblen Arbeit: Ein multiprofessioneller Ansatz” \nSexuelle Vielfalt stellt im Gesundheitsbereich oft eine Herausforderung dar\, insbesondere wenn sie mit traumatischen Erfahrungen verknüpft ist. Menschen mit alternativen Sexualitäten und Beziehungsformen stoßen in der Praxis des Gesundheitswesens häufig auf Pathologisierung\, Missverständnisse oder werden schlicht nicht wahrgenommen. \nDieser Vortrag zielt darauf ab\, die Relevanz einer Kink-bestätigenden Haltung in der Arbeit mit traumatisierten Klient:innen hervorzuheben. Gerade die Heilung von Traumata ist ein komplexer Prozess\, der ein breites Spektrum an Ressourcen und die Unterstützung durch verschiedene Berufsgruppen erfordert. \nGenau hier liegt die Stärke der multiprofessionellen Zusammenarbeit\, wie sie im KAPA-Netzwerk gefördert wird. Wenn Expert:innen aus unterschiedlichen Disziplinen ihr Wissen bündeln\, schaffen sie ein ganzheitliches und sicheres Umfeld\, das für die posttraumatische Entwicklung entscheidend ist. \nDieser interdisziplinäre Ansatz stellt sicher\, dass Klient:innen genau die vielfältige und kompetente Unterstützung erhalten\, die sie auf ihrem Weg benötigen – frei von Stigmatisierung und Pathologisierung. \nTeilnehmende erhalten eine Tagesmitgliedschaft für den Tag der Veranstaltung. \nNach dem Vortrag wird es Zeit für Austausch und Netzwerken vor Ort geben. Der Zoom-Raum wird für den Austausch der online-Teilnehmenden unadministriert offen bleiben. \nFortbildungspunkte für Psychotherapeut:innen\, Psycholog:innen\, Ärzte und Ärztinnen werden beantragt. \nMit dem Ticketkauf reservierst du verbindlich deinen Platz.Bitte beachte: Da es sich um eine zeitlich fixierte Gruppenveranstaltung handelt\, gibt es kein Rücktrittsrecht und keine Rückerstattung im Falle einer Absage oder Nicht-Teilnahme.Dies entspricht § 18 Abs 1 Z 10 des österreichischen Fern- und Auswärtsgeschäfte-Gesetzes (FAGG).Mit deiner Anmeldung erklärst du dich mit diesen Bedingungen einverstanden. \nWir wollen Kink Aware Professionals die Möglichkeit zur Vernetzung geben\, um eine gemeinsame Basis zu etablieren. \nIm Bereich Sexualität zu arbeiten ist manchmal herausfordernd\, weil Sexualität noch immer ein Tabuthema in unserer Gesellschaft ist. Alternative Sexualität und Beziehugnsformen sind folglich noch viel mehr stigmatisiert. \nBeziehungsformen\, die sich von der monogamen Grundkonzeption unterscheiden\, sind noch immer die Ausnahme. \nUnser Ziel ist es\, Expert:innen in diesem Bereich die Möglichkeit zu bieten\, einander kennenzulernen\, voneinander zu lernen\, sich auszutauschen und gegenseitig unterstützen zu können. \nWir wollen dafür eine Plattform zur Verfügung stellen und Vorträge sowie Expert:innenreferate anbieten die zum anschließenden Austausch anregen.
URL:https://kapa-expert.com/event/19-09-2025-kapa-netzwerktreffen-hybrid/
LOCATION:Trinicum Wien\, Schwarzenbergplatz 6\, Wien\, 1030\, Austria
CATEGORIES:hybrid,Netzwerktreffen,Online,Professionals,vor Ort
ATTACH;FMTTYPE=image/png:https://kapa-expert.com/wp-content/uploads/2024/07/zoom-KAPA-mittig.png
END:VEVENT
END:VCALENDAR