BEGIN:VCALENDAR
VERSION:2.0
PRODID:-//KAPA - ECPv6.15.20//NONSGML v1.0//EN
CALSCALE:GREGORIAN
METHOD:PUBLISH
X-ORIGINAL-URL:https://kapa-expert.com
X-WR-CALDESC:Veranstaltungen für KAPA
REFRESH-INTERVAL;VALUE=DURATION:PT1H
X-Robots-Tag:noindex
X-PUBLISHED-TTL:PT1H
BEGIN:VTIMEZONE
TZID:Europe/Vienna
BEGIN:DAYLIGHT
TZOFFSETFROM:+0100
TZOFFSETTO:+0200
TZNAME:CEST
DTSTART:20240331T010000
END:DAYLIGHT
BEGIN:STANDARD
TZOFFSETFROM:+0200
TZOFFSETTO:+0100
TZNAME:CET
DTSTART:20241027T010000
END:STANDARD
BEGIN:DAYLIGHT
TZOFFSETFROM:+0100
TZOFFSETTO:+0200
TZNAME:CEST
DTSTART:20250330T010000
END:DAYLIGHT
BEGIN:STANDARD
TZOFFSETFROM:+0200
TZOFFSETTO:+0100
TZNAME:CET
DTSTART:20251026T010000
END:STANDARD
BEGIN:DAYLIGHT
TZOFFSETFROM:+0100
TZOFFSETTO:+0200
TZNAME:CEST
DTSTART:20260329T010000
END:DAYLIGHT
BEGIN:STANDARD
TZOFFSETFROM:+0200
TZOFFSETTO:+0100
TZNAME:CET
DTSTART:20261025T010000
END:STANDARD
END:VTIMEZONE
BEGIN:VEVENT
DTSTART;VALUE=DATE:20250905
DTEND;VALUE=DATE:20250907
DTSTAMP:20260424T073716
CREATED:20250713T151028Z
LAST-MODIFIED:20250713T151852Z
UID:10000030-1757030400-1757203199@kapa-expert.com
SUMMARY:KAPA auf der Schwelle Conference 2025
DESCRIPTION:Wir freuen uns auch dieses Jahr wieder mit dabei zu sein. \nSchwelle Conference 2025 \n< zurück zu den Veranstaltungen
URL:https://kapa-expert.com/event/schwelle-confernce-2025/
CATEGORIES:Personen,vor Ort
ATTACH;FMTTYPE=image/png:https://kapa-expert.com/wp-content/uploads/2025/07/schwelle_conference_q.png
END:VEVENT
END:VCALENDAR